BEGIN:VCALENDAR
VERSION:2.0
PRODID:-//wp-events-plugin.com//7.2.3//EN
TZID:America/New_York
X-WR-TIMEZONE:America/New_York
BEGIN:VEVENT
UID:5185@uufg.org
DTSTART;TZID=America/New_York:20260201T120000
DTEND;TZID=America/New_York:20260201T123000
DTSTAMP:20260129T184751Z
URL:https://www.uufg.org/events/writing-birthday-cards-to-detainees-at-bak
 er-detention-center/
SUMMARY:Writing Birthday Cards to Detainees at Baker Detention Center
DESCRIPTION:Meets in the Social Hall following Sunday service
CATEGORIES:Social Justice
END:VEVENT
BEGIN:VTIMEZONE
TZID:America/New_York
X-LIC-LOCATION:America/New_York
BEGIN:STANDARD
DTSTART:20251102T010000
TZOFFSETFROM:-0400
TZOFFSETTO:-0500
TZNAME:EST
END:STANDARD
END:VTIMEZONE
END:VCALENDAR