BEGIN:VCALENDAR
VERSION:2.0
PRODID:-//wp-events-plugin.com//7.2.3//EN
TZID:America/New_York
X-WR-TIMEZONE:America/New_York
BEGIN:VEVENT
UID:5119@uufg.org
DTSTART;TZID=America/New_York:20260402T180000
DTEND;TZID=America/New_York:20260402T193000
DTSTAMP:20251008T191702Z
URL:https://www.uufg.org/events/uuketarians-rehearsal-2-2026-04-02/
SUMMARY:UUketarians Rehearsal
DESCRIPTION:Join our ukulele band in the Phillips Social Hall every first a
 nd third Thursday of the month for rehearsals as we prepare for our Sunday
  service performances!
END:VEVENT
BEGIN:VTIMEZONE
TZID:America/New_York
X-LIC-LOCATION:America/New_York
BEGIN:DAYLIGHT
DTSTART:20260308T030000
TZOFFSETFROM:-0500
TZOFFSETTO:-0400
TZNAME:EDT
END:DAYLIGHT
END:VTIMEZONE
END:VCALENDAR