BEGIN:VCALENDAR
VERSION:2.0
PRODID:-//wp-events-plugin.com//7.2.3//EN
TZID:America/New_York
X-WR-TIMEZONE:America/New_York
BEGIN:VEVENT
UID:2@uufg.org
DTSTART;TZID=America/New_York:20210302T120000
DTEND;TZID=America/New_York:20210302T130000
DTSTAMP:20210302T185238Z
URL:https://www.uufg.org/events/uu-elders/
SUMMARY:UU Elders
DESCRIPTION:Join this open group for fellowship and conversation via Zoom e
 ach Tuesday at noon. Watch for the News and Needs announcement with the Zo
 om link.\n\nFor more information\, contact Heather Arata\, Director of Lif
 espan Faith Development\, at dre@uufg.org.
END:VEVENT
BEGIN:VTIMEZONE
TZID:America/New_York
X-LIC-LOCATION:America/New_York
BEGIN:STANDARD
DTSTART:20201101T010000
TZOFFSETFROM:-0400
TZOFFSETTO:-0500
TZNAME:EST
END:STANDARD
END:VTIMEZONE
END:VCALENDAR