BEGIN:VCALENDAR
VERSION:2.0
PRODID:-//wp-events-plugin.com//7.2.3//EN
TZID:America/New_York
X-WR-TIMEZONE:America/New_York
BEGIN:VEVENT
UID:5211@uufg.org
DTSTART;TZID=America/New_York:20260228T100000
DTEND;TZID=America/New_York:20260228T160000
DTSTAMP:20260223T194139Z
URL:https://www.uufg.org/events/uu-congregational-leadership-north-florida
 -south-georgia/
SUMMARY:CANCELLED: UU Congregational Leadership - North Florida & South Geo
 rgia
DESCRIPTION:Due to unforeseen circumstances\, this conference will not be h
 eld on February 28. We plan to reschedule this event\, but no date is curr
 ently set.
END:VEVENT
BEGIN:VTIMEZONE
TZID:America/New_York
X-LIC-LOCATION:America/New_York
BEGIN:STANDARD
DTSTART:20251102T010000
TZOFFSETFROM:-0400
TZOFFSETTO:-0500
TZNAME:EST
END:STANDARD
END:VTIMEZONE
END:VCALENDAR