BEGIN:VCALENDAR
VERSION:2.0
PRODID:-//wp-events-plugin.com//7.2.3//EN
TZID:America/New_York
X-WR-TIMEZONE:America/New_York
BEGIN:VEVENT
UID:3891@uufg.org
DTSTART;TZID=America/New_York:20230423T121500
DTEND;TZID=America/New_York:20230423T130000
DTSTAMP:20230419T194115Z
URL:https://www.uufg.org/events/town-hall-meeting/
SUMMARY:Town Hall Meeting
DESCRIPTION:Members\, please attend a Town Hall on Sunday\, April 23rd afte
 r the service to update the congregation on where the Board is in the proc
 ess of hiring a minister. 
CATEGORIES:Governance
END:VEVENT
BEGIN:VTIMEZONE
TZID:America/New_York
X-LIC-LOCATION:America/New_York
BEGIN:DAYLIGHT
DTSTART:20230312T030000
TZOFFSETFROM:-0500
TZOFFSETTO:-0400
TZNAME:EDT
END:DAYLIGHT
END:VTIMEZONE
END:VCALENDAR