BEGIN:VCALENDAR
VERSION:2.0
PRODID:-//wp-events-plugin.com//7.2.3//EN
TZID:America/New_York
X-WR-TIMEZONE:America/New_York
BEGIN:VEVENT
UID:156@uufg.org
DTSTART;TZID=America/New_York:20220213T133000
DTEND;TZID=America/New_York:20220213T150000
DTSTAMP:20220202T141642Z
URL:https://www.uufg.org/events/social-justice-common-read-for-winter/
SUMMARY:Social Justice Common Read for Winter
DESCRIPTION:My Grandmother’s Hands: Racialized Trauma and the Pathway to 
 Mending Our Hearts and Bodies\, by Resmaa Meakem.\n\nThe author says the b
 ody is where our instincts reside and where we fight\, flee\, or freeze\, 
 and it endures the trauma inflicted by the ills that plague society. Menak
 em\, a therapist\, examines the damage caused by racism and introduces an 
 alternative view of what we can do to grow beyond the racialized divide. G
 et your copy at the Book Cart after an “in person” service or email Pa
 ul Hargrave to order (hargrave.paul@gmail.com).\n\nMadelyn Moyer will lead
  us in discussions of our Common Read for this winter. We'll meet via Zoom
  on February 13\, February 27\, and March 13\, 1:30—3:00 pm. Contact Mar
 y Bahr (kmlisle.mary@gmail.com) for the link.
ATTACH;FMTTYPE=image/jpeg:https://www.uufg.org/wp-content/uploads/Mygrandm
 othershandsbook.jpg
CATEGORIES:Social Justice
END:VEVENT
BEGIN:VTIMEZONE
TZID:America/New_York
X-LIC-LOCATION:America/New_York
BEGIN:STANDARD
DTSTART:20211107T010000
TZOFFSETFROM:-0400
TZOFFSETTO:-0500
TZNAME:EST
END:STANDARD
END:VTIMEZONE
END:VCALENDAR