BEGIN:VCALENDAR
VERSION:2.0
PRODID:-//wp-events-plugin.com//7.2.3//EN
TZID:America/New_York
X-WR-TIMEZONE:America/New_York
BEGIN:VEVENT
UID:157@uufg.org
DTSTART;TZID=America/New_York:20220227T133000
DTEND;TZID=America/New_York:20220227T150000
DTSTAMP:20220202T141314Z
URL:https://www.uufg.org/events/social-justice-common-read-for-winter-2/
SUMMARY:Social Justice Common Read for Winter
DESCRIPTION:Madelyn Moyer will lead us in discussions of our Common Read fo
 r this winter\, My Grandmother’s Hands: Racialized Trauma and the Pathwa
 y to Mending Our Hearts and Bodies\, by Resmaa Meakem.\n\nThe author says 
 the body is where our instincts reside and where we fight\, flee\, or free
 ze\, and it endures the trauma inflicted by the ills that plague society. 
 Menakem\, a therapist\, examines the damage caused by racism and introduce
 s an alternative view of what we can do to grow beyond the racialized divi
 de. Get your copy at the Book Cart after an “in person” service or ema
 il Paul Hargrave to order (hargrave.paul@gmail.com).\n\nBook discussions v
 ia Zoom will be on February 13\, February 27\, and March 13\, 1:30—3:00 
 pm. Contact Mary Bahr (kmlisle.mary@gmail.com) for the link.
ATTACH;FMTTYPE=image/jpeg:https://www.uufg.org/wp-content/uploads/Mygrandm
 othershandsbook.jpg
CATEGORIES:Social Justice
END:VEVENT
BEGIN:VTIMEZONE
TZID:America/New_York
X-LIC-LOCATION:America/New_York
BEGIN:STANDARD
DTSTART:20211107T010000
TZOFFSETFROM:-0400
TZOFFSETTO:-0500
TZNAME:EST
END:STANDARD
END:VTIMEZONE
END:VCALENDAR