BEGIN:VCALENDAR
VERSION:2.0
PRODID:-//wp-events-plugin.com//7.2.3//EN
TZID:America/New_York
X-WR-TIMEZONE:America/New_York
BEGIN:VEVENT
UID:366@uufg.org
DTSTART;TZID=America/New_York:20220216T140000
DTEND;TZID=America/New_York:20220216T150000
DTSTAMP:20220202T154220Z
URL:https://www.uufg.org/events/safety-security-workshop/
SUMMARY:Safety & Security Workshop
DESCRIPTION:Officer Bret Traywick\, Public Crime Prevention Coordinator for
  the Gainesville Police Department speaks about how our congregation can r
 espond to various kinds of civil disturbances. Members are welcome to atte
 nd. To register and for more information\, contact the Fellowship's office
  (uuoffice@uufg.org).
END:VEVENT
BEGIN:VTIMEZONE
TZID:America/New_York
X-LIC-LOCATION:America/New_York
BEGIN:STANDARD
DTSTART:20211107T010000
TZOFFSETFROM:-0400
TZOFFSETTO:-0500
TZNAME:EST
END:STANDARD
END:VTIMEZONE
END:VCALENDAR