BEGIN:VCALENDAR
VERSION:2.0
PRODID:-//wp-events-plugin.com//7.2.3//EN
TZID:America/New_York
X-WR-TIMEZONE:America/New_York
BEGIN:VEVENT
UID:4387@uufg.org
DTSTART;TZID=America/New_York:20240929T121500
DTEND;TZID=America/New_York:20240929T131500
DTSTAMP:20240923T170546Z
URL:https://www.uufg.org/events/nuu-to-gainesville/
SUMMARY:NUU to Gainesville
DESCRIPTION:The group will be loosely structured for participants to share 
 experiences and information about life in their new city home. Members of 
 the group will definite direction of the group—possible meetings at UUFG
  before or after the service\, outings\, social events in homes\, dinners\
 , topic discussions\, or a combination of these and others—as well as th
 e meeting schedule. \n\nIf you are interested in participating\, contact J
 udith Kendall (judithkendall@cox.net) or Ellen Cecil (epcecil1@outlook.com
 ).
END:VEVENT
BEGIN:VTIMEZONE
TZID:America/New_York
X-LIC-LOCATION:America/New_York
BEGIN:DAYLIGHT
DTSTART:20240310T030000
TZOFFSETFROM:-0500
TZOFFSETTO:-0400
TZNAME:EDT
END:DAYLIGHT
END:VTIMEZONE
END:VCALENDAR