BEGIN:VCALENDAR
VERSION:2.0
PRODID:-//wp-events-plugin.com//7.2.3//EN
TZID:America/New_York
X-WR-TIMEZONE:America/New_York
BEGIN:VEVENT
UID:501@uufg.org
DTSTART;TZID=America/New_York:20221009T120000
DTEND;TZID=America/New_York:20221009T133000
DTSTAMP:20220930T173351Z
URL:https://www.uufg.org/events/newcomer-orientation/
SUMMARY:Newcomer Orientation
DESCRIPTION:Newcomer orientation\, an information session for people new to
  our congregation\, resumes after the October 9 service\, following a summ
 er hiatus. Curious but not sure this denomination is for you? Definitely i
 nterested in membership? This orientation session is for all of you. For m
 ore information or to sign up for orientation\, come to the welcome table 
 in the foyer prior to service or to the visitor’s table outside during c
 offee hour. Look for the green tablecloth.
END:VEVENT
BEGIN:VTIMEZONE
TZID:America/New_York
X-LIC-LOCATION:America/New_York
BEGIN:DAYLIGHT
DTSTART:20220313T030000
TZOFFSETFROM:-0500
TZOFFSETTO:-0400
TZNAME:EDT
END:DAYLIGHT
END:VTIMEZONE
END:VCALENDAR