BEGIN:VCALENDAR
VERSION:2.0
PRODID:-//wp-events-plugin.com//7.2.3//EN
TZID:America/New_York
X-WR-TIMEZONE:America/New_York
BEGIN:VEVENT
UID:4445@uufg.org
DTSTART;TZID=America/New_York:20250315T190000
DTEND;TZID=America/New_York:20250315T200000
DTSTAMP:20250303T183515Z
URL:https://www.uufg.org/events/jane-kozhevnikova-friends-in-concert/
SUMMARY:Jane Kozhevnikova & Friends\, in Concert
DESCRIPTION:On Saturday\, March 15 at 7 pm in our Fellowship's Sanctuary\, 
 please join us for a concert featuring Jane Kozhevnikova (piano)\, Marilyn
  Sharp (soprano)\, Jacquelyn Pileckas (mezzo-soprano)\, and Jacob Pence (b
 aritone).\n\nThe theme for the concert is the environment. The concert wil
 l include the premiere of the vocal cycle Lest We Forget What Sustains Us
  (libretto by Germaine Shames\, music by Jane Kozhevnikova)\, which music
 ally chronicles the natural history of the earth.\n\nAdmission is free\, a
 nd a reception in our Phillips Social Hall will follow the concert. This p
 erformance is sponsored by our Fellowship's music program.
END:VEVENT
BEGIN:VTIMEZONE
TZID:America/New_York
X-LIC-LOCATION:America/New_York
BEGIN:DAYLIGHT
DTSTART:20250309T030000
TZOFFSETFROM:-0500
TZOFFSETTO:-0400
TZNAME:EDT
END:DAYLIGHT
END:VTIMEZONE
END:VCALENDAR