BEGIN:VCALENDAR
VERSION:2.0
PRODID:-//wp-events-plugin.com//7.2.3//EN
TZID:America/New_York
X-WR-TIMEZONE:America/New_York
BEGIN:VEVENT
UID:5186@uufg.org
DTSTART;TZID=America/New_York:20260226T133000
DTEND;TZID=America/New_York:20260226T153000
DTSTAMP:20260130T140741Z
URL:https://www.uufg.org/events/interfaith-immigrant-assistance-team/
SUMMARY:Interfaith Immigrant Assistance Team
DESCRIPTION:Meets in our Phillips Social Hall. Sponsored by our Social Just
 ice Council. Contact the office for information.
END:VEVENT
BEGIN:VTIMEZONE
TZID:America/New_York
X-LIC-LOCATION:America/New_York
BEGIN:STANDARD
DTSTART:20251102T010000
TZOFFSETFROM:-0400
TZOFFSETTO:-0500
TZNAME:EST
END:STANDARD
END:VTIMEZONE
END:VCALENDAR