BEGIN:VCALENDAR
VERSION:2.0
PRODID:-//wp-events-plugin.com//7.2.3//EN
TZID:America/New_York
X-WR-TIMEZONE:America/New_York
BEGIN:VEVENT
UID:4386@uufg.org
DTSTART;TZID=America/New_York:20241020T120000
DTEND;TZID=America/New_York:20241020T140000
DTSTAMP:20240920T134207Z
URL:https://www.uufg.org/events/fellowship-council-potluck-luncheon/
SUMMARY:Fellowship Council Potluck Luncheon
DESCRIPTION:The UUFG Fellowship Council will host a potluck luncheon after 
 the Sunday Service on October 20\, 2024 from 12-2 pm. Please bring a disk 
 to share and a drink for yourself. Everything else will be provided. A foo
 d signup sheet will be available in the Phillips Social Hall for a few Sun
 days. We will start the luncheon setup at 9:30 am on Oct. 20. So please vo
 lunteer to help setup tables\, chairs\, tents\, and set out plates and ute
 nsils. \n
END:VEVENT
BEGIN:VTIMEZONE
TZID:America/New_York
X-LIC-LOCATION:America/New_York
BEGIN:DAYLIGHT
DTSTART:20240310T030000
TZOFFSETFROM:-0500
TZOFFSETTO:-0400
TZNAME:EDT
END:DAYLIGHT
END:VTIMEZONE
END:VCALENDAR