BEGIN:VCALENDAR
VERSION:2.0
PRODID:-//wp-events-plugin.com//7.2.3//EN
TZID:America/New_York
X-WR-TIMEZONE:America/New_York
BEGIN:VEVENT
UID:1@uufg.org
DTSTART;TZID=America/New_York:20210305T163000
DTEND;TZID=America/New_York:20210305T183000
DTSTAMP:20210302T190707Z
URL:https://www.uufg.org/events/courtyard-cafe/
SUMMARY:Courtyard Cafe
DESCRIPTION:This coming Friday\, don’t miss our first “Courtyard\nCafé
 ” of the year. You’re invited to attend this event\,\nfeaturing the mu
 sic of our very own Thomas Royal!\nWe ask that you bring your own chair\, 
 beverage and\nsnack. Please also wear a mask and maintain\nappropriate phy
 sical distance as you engage with other\nattendees.\nYou are also welcome 
 to park and remain in your car\n— on our campus\, you’ll be able to li
 sten to Thomas’\nmusic by tuning into 87.9 on your FM radio dial.
CATEGORIES:Music
END:VEVENT
BEGIN:VTIMEZONE
TZID:America/New_York
X-LIC-LOCATION:America/New_York
BEGIN:STANDARD
DTSTART:20201101T010000
TZOFFSETFROM:-0400
TZOFFSETTO:-0500
TZNAME:EST
END:STANDARD
END:VTIMEZONE
END:VCALENDAR