BEGIN:VCALENDAR
VERSION:2.0
PRODID:-//wp-events-plugin.com//7.2.3//EN
TZID:America/New_York
X-WR-TIMEZONE:America/New_York
BEGIN:VEVENT
UID:513@uufg.org
DTSTART;TZID=America/New_York:20221210T160000
DTEND;TZID=America/New_York:20221210T180000
DTSTAMP:20221129T194223Z
URL:https://www.uufg.org/events/capella-nova-the-messiah-sing-along/
SUMMARY:Capella Nova - The Messiah Sing-Along
DESCRIPTION:Stand alongside members of Capella Nova and be part of a Messia
 h in which YOU are the choir! \n\nwith Guest Soloists and Instrumentalists
 \n\nPresented in the Sanctuary of \nThe Unitarian Universalists Fellowship
  of Gainesville\n 4225 NW 34th St\, Gainesville\, FL 32605 \n\nJoshua L. M
 azur\, Conductor\n\nFree and Open to the Public\n\na suggested donation of
  $10 greatly appreciated
END:VEVENT
BEGIN:VTIMEZONE
TZID:America/New_York
X-LIC-LOCATION:America/New_York
BEGIN:STANDARD
DTSTART:20221106T010000
TZOFFSETFROM:-0400
TZOFFSETTO:-0500
TZNAME:EST
END:STANDARD
END:VTIMEZONE
END:VCALENDAR